BEGIN:VCALENDAR
VERSION:2.0
PRODID:icalendar-ruby
CALSCALE:GREGORIAN
METHOD:PUBLISH
BEGIN:VEVENT
DTSTAMP:20260424T231012Z
UID:9-410678@woosterfbc.org
DTSTART:20261004T220000Z
DTEND:20261004T230000Z
CLASS:PUBLIC
CREATED:20260424T161448
DESCRIPTION:
LAST-MODIFIED:20260424T161448
LOCATION:
SUMMARY:Evening Worship
URL;VALUE=URI:https://www.woosterfbc.org/events/evening-worship/2026-10-04
ATTACH;FILENAME=FdBGx.jpg;FMTTYPE=image/jpeg:https://dq5pwpg1q8ru0.cloudfro
 nt.net/2026/02/16/17/50/30/b495b8ec-6394-4f93-89fd-dbb3e67539b0/FdBGx.jpg
END:VEVENT
END:VCALENDAR
